BEGIN:VCALENDAR
VERSION:2.0
PRODID:-//Amati&amp;Partners - ECPv6.15.17.1//NONSGML v1.0//EN
CALSCALE:GREGORIAN
METHOD:PUBLISH
X-WR-CALNAME:Amati&amp;Partners
X-ORIGINAL-URL:https://www.amatipartners.it
X-WR-CALDESC:Eventi per Amati&amp;Partners
REFRESH-INTERVAL;VALUE=DURATION:PT1H
X-Robots-Tag:noindex
X-PUBLISHED-TTL:PT1H
BEGIN:VTIMEZONE
TZID:Europe/Rome
BEGIN:DAYLIGHT
TZOFFSETFROM:+0100
TZOFFSETTO:+0200
TZNAME:CEST
DTSTART:20230326T010000
END:DAYLIGHT
BEGIN:STANDARD
TZOFFSETFROM:+0200
TZOFFSETTO:+0100
TZNAME:CET
DTSTART:20231029T010000
END:STANDARD
BEGIN:DAYLIGHT
TZOFFSETFROM:+0100
TZOFFSETTO:+0200
TZNAME:CEST
DTSTART:20240331T010000
END:DAYLIGHT
BEGIN:STANDARD
TZOFFSETFROM:+0200
TZOFFSETTO:+0100
TZNAME:CET
DTSTART:20241027T010000
END:STANDARD
BEGIN:DAYLIGHT
TZOFFSETFROM:+0100
TZOFFSETTO:+0200
TZNAME:CEST
DTSTART:20250330T010000
END:DAYLIGHT
BEGIN:STANDARD
TZOFFSETFROM:+0200
TZOFFSETTO:+0100
TZNAME:CET
DTSTART:20251026T010000
END:STANDARD
END:VTIMEZONE
BEGIN:VEVENT
DTSTART;VALUE=DATE:20240516
DTEND;VALUE=DATE:20240517
DTSTAMP:20260423T170859
CREATED:20240216T095731Z
LAST-MODIFIED:20240216T095731Z
UID:10000070-1715817600-1715903999@www.amatipartners.it
SUMMARY:Maggio
DESCRIPTION:Versamento IVA e ritenute – Aprile
URL:https://www.amatipartners.it/scadenze/maggio-6/
END:VEVENT
BEGIN:VEVENT
DTSTART;VALUE=DATE:20240516
DTEND;VALUE=DATE:20240517
DTSTAMP:20260423T170859
CREATED:20240216T095756Z
LAST-MODIFIED:20240216T095756Z
UID:10000071-1715817600-1715903999@www.amatipartners.it
SUMMARY:Maggio
DESCRIPTION:Versamento INPS fissi e IVA – 1° trimestre
URL:https://www.amatipartners.it/scadenze/maggio-7/
END:VEVENT
BEGIN:VEVENT
DTSTART;VALUE=DATE:20240520
DTEND;VALUE=DATE:20240521
DTSTAMP:20260423T170859
CREATED:20240216T095826Z
LAST-MODIFIED:20240216T095826Z
UID:10000072-1716163200-1716249599@www.amatipartners.it
SUMMARY:Maggio
DESCRIPTION:Versamento Enasarco su provvigioni maturate 1° trimestre
URL:https://www.amatipartners.it/scadenze/maggio-8/
END:VEVENT
BEGIN:VEVENT
DTSTART;VALUE=DATE:20240527
DTEND;VALUE=DATE:20240528
DTSTAMP:20260423T170859
CREATED:20240216T095847Z
LAST-MODIFIED:20240216T095847Z
UID:10000073-1716768000-1716854399@www.amatipartners.it
SUMMARY:Maggio
DESCRIPTION:Mod. INTRA – Aprile
URL:https://www.amatipartners.it/scadenze/maggio-9/
END:VEVENT
BEGIN:VEVENT
DTSTART;VALUE=DATE:20240527
DTEND;VALUE=DATE:20240528
DTSTAMP:20260423T170859
CREATED:20240216T114051Z
LAST-MODIFIED:20240216T114051Z
UID:10000121-1716768000-1716854399@www.amatipartners.it
SUMMARY:Dicembre
DESCRIPTION:Versamento IVA – acconto 2024
URL:https://www.amatipartners.it/scadenze/dicembre-12/
END:VEVENT
BEGIN:VEVENT
DTSTART;VALUE=DATE:20240531
DTEND;VALUE=DATE:20240601
DTSTAMP:20260423T170859
CREATED:20240216T095908Z
LAST-MODIFIED:20240216T095908Z
UID:10000074-1717113600-1717199999@www.amatipartners.it
SUMMARY:Maggio
DESCRIPTION:Comunicazione LIPE – 1° trimestre
URL:https://www.amatipartners.it/scadenze/maggio-10/
END:VEVENT
BEGIN:VEVENT
DTSTART;VALUE=DATE:20240531
DTEND;VALUE=DATE:20240601
DTSTAMP:20260423T170859
CREATED:20240216T095938Z
LAST-MODIFIED:20240216T095938Z
UID:10000075-1717113600-1717199999@www.amatipartners.it
SUMMARY:Maggio
DESCRIPTION:Versamento Rottamazione-quater (4a rata di max 18) \n\n\n\n\n\nComma 232\, L. 197/2022
URL:https://www.amatipartners.it/scadenze/maggio-11/
END:VEVENT
END:VCALENDAR