BEGIN:VCALENDAR
VERSION:2.0
PRODID:-//Amati&amp;Partners - ECPv6.15.17.1//NONSGML v1.0//EN
CALSCALE:GREGORIAN
METHOD:PUBLISH
X-ORIGINAL-URL:https://www.amatipartners.it
X-WR-CALDESC:Eventi per Amati&amp;Partners
REFRESH-INTERVAL;VALUE=DURATION:PT1H
X-Robots-Tag:noindex
X-PUBLISHED-TTL:PT1H
BEGIN:VTIMEZONE
TZID:Europe/Rome
BEGIN:DAYLIGHT
TZOFFSETFROM:+0100
TZOFFSETTO:+0200
TZNAME:CEST
DTSTART:20230326T010000
END:DAYLIGHT
BEGIN:STANDARD
TZOFFSETFROM:+0200
TZOFFSETTO:+0100
TZNAME:CET
DTSTART:20231029T010000
END:STANDARD
BEGIN:DAYLIGHT
TZOFFSETFROM:+0100
TZOFFSETTO:+0200
TZNAME:CEST
DTSTART:20240331T010000
END:DAYLIGHT
BEGIN:STANDARD
TZOFFSETFROM:+0200
TZOFFSETTO:+0100
TZNAME:CET
DTSTART:20241027T010000
END:STANDARD
BEGIN:DAYLIGHT
TZOFFSETFROM:+0100
TZOFFSETTO:+0200
TZNAME:CEST
DTSTART:20250330T010000
END:DAYLIGHT
BEGIN:STANDARD
TZOFFSETFROM:+0200
TZOFFSETTO:+0100
TZNAME:CET
DTSTART:20251026T010000
END:STANDARD
END:VTIMEZONE
BEGIN:VEVENT
DTSTART;VALUE=DATE:20240402
DTEND;VALUE=DATE:20240403
DTSTAMP:20260423T195633
CREATED:20240216T093638Z
LAST-MODIFIED:20240216T093638Z
UID:10000060-1712016000-1712102399@www.amatipartners.it
SUMMARY:Aprile
DESCRIPTION:Versamento FIRR maturato 2023
URL:https://www.amatipartners.it/scadenze/aprile/
END:VEVENT
BEGIN:VEVENT
DTSTART;VALUE=DATE:20240402
DTEND;VALUE=DATE:20240403
DTSTAMP:20260423T195633
CREATED:20240216T093657Z
LAST-MODIFIED:20240216T093657Z
UID:10000061-1712016000-1712102399@www.amatipartners.it
SUMMARY:Aprile
DESCRIPTION:Mod. EAS per variazioni intervenute nel 2023
URL:https://www.amatipartners.it/scadenze/aprile-3/
END:VEVENT
BEGIN:VEVENT
DTSTART;VALUE=DATE:20240402
DTEND;VALUE=DATE:20240403
DTSTAMP:20260423T195633
CREATED:20240216T093752Z
LAST-MODIFIED:20240216T093752Z
UID:10000062-1712016000-1712102399@www.amatipartners.it
SUMMARY:Aprile
DESCRIPTION:Versamento Sanatoria irregolarità formali (2a rata di 2) \n\n\n\n\nComma 167\, L. 197/2022
URL:https://www.amatipartners.it/scadenze/aprile-5/
END:VEVENT
BEGIN:VEVENT
DTSTART;VALUE=DATE:20240402
DTEND;VALUE=DATE:20240403
DTSTAMP:20260423T195633
CREATED:20240216T093826Z
LAST-MODIFIED:20240216T093826Z
UID:10000063-1712016000-1712102399@www.amatipartners.it
SUMMARY:Aprile
DESCRIPTION:Versam. Ravv. speciale (5a rata trim. di 8)\, Liti fiscali pendenti (4a rata trim. di max 20)\, Rate ist. definitori (5a rata trim. di max 20) \n\n\n\n\nCommi 174\, 194 e 220\, L. 197/2022
URL:https://www.amatipartners.it/scadenze/aprile-6/
END:VEVENT
BEGIN:VEVENT
DTSTART;VALUE=DATE:20240416
DTEND;VALUE=DATE:20240417
DTSTAMP:20260423T195633
CREATED:20240216T093907Z
LAST-MODIFIED:20240216T093907Z
UID:10000064-1713225600-1713311999@www.amatipartners.it
SUMMARY:Aprile
DESCRIPTION:Versamento IVA e ritenute – Marzo
URL:https://www.amatipartners.it/scadenze/aprile-7/
END:VEVENT
BEGIN:VEVENT
DTSTART;VALUE=DATE:20240426
DTEND;VALUE=DATE:20240427
DTSTAMP:20260423T195633
CREATED:20240216T093936Z
LAST-MODIFIED:20240216T093936Z
UID:10000065-1714089600-1714175999@www.amatipartners.it
SUMMARY:Aprile
DESCRIPTION:Mod. INTRA – Marzo e 1° trimestre \n 
URL:https://www.amatipartners.it/scadenze/aprile-8/
END:VEVENT
BEGIN:VEVENT
DTSTART;VALUE=DATE:20240429
DTEND;VALUE=DATE:20240430
DTSTAMP:20260423T195633
CREATED:20240216T094007Z
LAST-MODIFIED:20240216T094007Z
UID:10000066-1714348800-1714435199@www.amatipartners.it
SUMMARY:Aprile
DESCRIPTION:Versam. bollo scritture contab. 2023 conservate digitalmente \n\n\n\n\n120gg dalla chiusura esercizio – art. 6\, co. 2\, DM 17.6.14
URL:https://www.amatipartners.it/scadenze/aprile-9/
END:VEVENT
BEGIN:VEVENT
DTSTART;VALUE=DATE:20240430
DTEND;VALUE=DATE:20240501
DTSTAMP:20260423T195633
CREATED:20240216T094031Z
LAST-MODIFIED:20240216T094031Z
UID:10000067-1714435200-1714521599@www.amatipartners.it
SUMMARY:Aprile
DESCRIPTION:Dichiarazione e liquidazione OSS – 1° trimestre
URL:https://www.amatipartners.it/scadenze/aprile-10/
END:VEVENT
BEGIN:VEVENT
DTSTART;VALUE=DATE:20240430
DTEND;VALUE=DATE:20240501
DTSTAMP:20260423T195633
CREATED:20240216T094058Z
LAST-MODIFIED:20240216T094058Z
UID:10000068-1714435200-1714521599@www.amatipartners.it
SUMMARY:Aprile
DESCRIPTION:Mod. IVA TR – 1° trimestre
URL:https://www.amatipartners.it/scadenze/aprile-11/
END:VEVENT
BEGIN:VEVENT
DTSTART;VALUE=DATE:20240430
DTEND;VALUE=DATE:20240501
DTSTAMP:20260423T195633
CREATED:20240216T094124Z
LAST-MODIFIED:20240216T094124Z
UID:10000069-1714435200-1714521599@www.amatipartners.it
SUMMARY:Aprile
DESCRIPTION:Mod. IVA 2024 – anno 2023
URL:https://www.amatipartners.it/scadenze/aprile-12/
END:VEVENT
END:VCALENDAR