BEGIN:VCALENDAR
VERSION:2.0
PRODID:-//Amati&amp;Partners - ECPv6.15.17.1//NONSGML v1.0//EN
CALSCALE:GREGORIAN
METHOD:PUBLISH
X-WR-CALNAME:Amati&amp;Partners
X-ORIGINAL-URL:https://www.amatipartners.it
X-WR-CALDESC:Eventi per Amati&amp;Partners
REFRESH-INTERVAL;VALUE=DURATION:PT1H
X-Robots-Tag:noindex
X-PUBLISHED-TTL:PT1H
BEGIN:VTIMEZONE
TZID:Europe/Rome
BEGIN:DAYLIGHT
TZOFFSETFROM:+0100
TZOFFSETTO:+0200
TZNAME:CEST
DTSTART:20230326T010000
END:DAYLIGHT
BEGIN:STANDARD
TZOFFSETFROM:+0200
TZOFFSETTO:+0100
TZNAME:CET
DTSTART:20231029T010000
END:STANDARD
BEGIN:DAYLIGHT
TZOFFSETFROM:+0100
TZOFFSETTO:+0200
TZNAME:CEST
DTSTART:20240331T010000
END:DAYLIGHT
BEGIN:STANDARD
TZOFFSETFROM:+0200
TZOFFSETTO:+0100
TZNAME:CET
DTSTART:20241027T010000
END:STANDARD
BEGIN:DAYLIGHT
TZOFFSETFROM:+0100
TZOFFSETTO:+0200
TZNAME:CEST
DTSTART:20250330T010000
END:DAYLIGHT
BEGIN:STANDARD
TZOFFSETFROM:+0200
TZOFFSETTO:+0100
TZNAME:CET
DTSTART:20251026T010000
END:STANDARD
END:VTIMEZONE
BEGIN:VEVENT
DTSTART;VALUE=DATE:20240318
DTEND;VALUE=DATE:20240319
DTSTAMP:20260423T201511
CREATED:20240216T093254Z
LAST-MODIFIED:20240216T093254Z
UID:10000052-1710720000-1710806399@www.amatipartners.it
SUMMARY:Marzo
DESCRIPTION:Versamento tassa annuale libri sociali – 2024
URL:https://www.amatipartners.it/scadenze/marzo/
END:VEVENT
BEGIN:VEVENT
DTSTART;VALUE=DATE:20240318
DTEND;VALUE=DATE:20240319
DTSTAMP:20260423T201511
CREATED:20240216T093320Z
LAST-MODIFIED:20240216T093320Z
UID:10000053-1710720000-1710806399@www.amatipartners.it
SUMMARY:Marzo
DESCRIPTION:Versamento IVA e ritenute – Febbraio
URL:https://www.amatipartners.it/scadenze/marzo-2/
END:VEVENT
BEGIN:VEVENT
DTSTART;VALUE=DATE:20240318
DTEND;VALUE=DATE:20240319
DTSTAMP:20260423T201511
CREATED:20240216T093352Z
LAST-MODIFIED:20240216T093352Z
UID:10000054-1710720000-1710806399@www.amatipartners.it
SUMMARY:Marzo
DESCRIPTION:Versamento saldo IVA annuale – 2023
URL:https://www.amatipartners.it/scadenze/marzo-3/
END:VEVENT
BEGIN:VEVENT
DTSTART;VALUE=DATE:20240318
DTEND;VALUE=DATE:20240319
DTSTAMP:20260423T201511
CREATED:20240216T093420Z
LAST-MODIFIED:20240216T093420Z
UID:10000055-1710720000-1710806399@www.amatipartners.it
SUMMARY:Marzo
DESCRIPTION:Invio mod. CU 2024 – anno 2023
URL:https://www.amatipartners.it/scadenze/marzo-4/
END:VEVENT
BEGIN:VEVENT
DTSTART;VALUE=DATE:20240318
DTEND;VALUE=DATE:20240319
DTSTAMP:20260423T201511
CREATED:20240216T093444Z
LAST-MODIFIED:20240216T093444Z
UID:10000056-1710720000-1710806399@www.amatipartners.it
SUMMARY:Marzo
DESCRIPTION:Comunicazione Agenzia Entrate dati 730 precompilato \n\n\n\n\nAg. funebri\, asili nido\, amm. condominio
URL:https://www.amatipartners.it/scadenze/marzo-5/
END:VEVENT
BEGIN:VEVENT
DTSTART;VALUE=DATE:20240318
DTEND;VALUE=DATE:20240319
DTSTAMP:20260423T201511
CREATED:20240216T093514Z
LAST-MODIFIED:20240216T093514Z
UID:10000057-1710720000-1710806399@www.amatipartners.it
SUMMARY:Marzo
DESCRIPTION:Opzione cessione credito/sconto in fattura spese 2023
URL:https://www.amatipartners.it/scadenze/marzo-6/
END:VEVENT
BEGIN:VEVENT
DTSTART;VALUE=DATE:20240318
DTEND;VALUE=DATE:20240319
DTSTAMP:20260423T201511
CREATED:20240216T093549Z
LAST-MODIFIED:20240216T093549Z
UID:10000058-1710720000-1710806399@www.amatipartners.it
SUMMARY:Marzo
DESCRIPTION:Comunicazione spese al Sistema TS – anno 2023 \n\n\n\n\nSpese veterinarie
URL:https://www.amatipartners.it/scadenze/marzo-7/
END:VEVENT
BEGIN:VEVENT
DTSTART;VALUE=DATE:20240325
DTEND;VALUE=DATE:20240326
DTSTAMP:20260423T201511
CREATED:20240216T093613Z
LAST-MODIFIED:20240216T093613Z
UID:10000059-1711324800-1711411199@www.amatipartners.it
SUMMARY:Marzo
DESCRIPTION:Mod. INTRA – Febbraio
URL:https://www.amatipartners.it/scadenze/marzo-8/
END:VEVENT
END:VCALENDAR