BEGIN:VCALENDAR
VERSION:2.0
PRODID:-//Amati&amp;Partners - ECPv6.15.17.1//NONSGML v1.0//EN
CALSCALE:GREGORIAN
METHOD:PUBLISH
X-WR-CALNAME:Amati&amp;Partners
X-ORIGINAL-URL:https://www.amatipartners.it
X-WR-CALDESC:Eventi per Amati&amp;Partners
REFRESH-INTERVAL;VALUE=DURATION:PT1H
X-Robots-Tag:noindex
X-PUBLISHED-TTL:PT1H
BEGIN:VTIMEZONE
TZID:Europe/Rome
BEGIN:DAYLIGHT
TZOFFSETFROM:+0100
TZOFFSETTO:+0200
TZNAME:CEST
DTSTART:20230326T010000
END:DAYLIGHT
BEGIN:STANDARD
TZOFFSETFROM:+0200
TZOFFSETTO:+0100
TZNAME:CET
DTSTART:20231029T010000
END:STANDARD
BEGIN:DAYLIGHT
TZOFFSETFROM:+0100
TZOFFSETTO:+0200
TZNAME:CEST
DTSTART:20240331T010000
END:DAYLIGHT
BEGIN:STANDARD
TZOFFSETFROM:+0200
TZOFFSETTO:+0100
TZNAME:CET
DTSTART:20241027T010000
END:STANDARD
BEGIN:DAYLIGHT
TZOFFSETFROM:+0100
TZOFFSETTO:+0200
TZNAME:CEST
DTSTART:20250330T010000
END:DAYLIGHT
BEGIN:STANDARD
TZOFFSETFROM:+0200
TZOFFSETTO:+0100
TZNAME:CET
DTSTART:20251026T010000
END:STANDARD
END:VTIMEZONE
BEGIN:VEVENT
DTSTART;VALUE=DATE:20240402
DTEND;VALUE=DATE:20240403
DTSTAMP:20260423T201510
CREATED:20240216T093638Z
LAST-MODIFIED:20240216T093638Z
UID:10000060-1712016000-1712102399@www.amatipartners.it
SUMMARY:Aprile
DESCRIPTION:Versamento FIRR maturato 2023
URL:https://www.amatipartners.it/scadenze/aprile/
END:VEVENT
BEGIN:VEVENT
DTSTART;VALUE=DATE:20240402
DTEND;VALUE=DATE:20240403
DTSTAMP:20260423T201510
CREATED:20240216T093657Z
LAST-MODIFIED:20240216T093657Z
UID:10000061-1712016000-1712102399@www.amatipartners.it
SUMMARY:Aprile
DESCRIPTION:Mod. EAS per variazioni intervenute nel 2023
URL:https://www.amatipartners.it/scadenze/aprile-3/
END:VEVENT
BEGIN:VEVENT
DTSTART;VALUE=DATE:20240402
DTEND;VALUE=DATE:20240403
DTSTAMP:20260423T201510
CREATED:20240216T093752Z
LAST-MODIFIED:20240216T093752Z
UID:10000062-1712016000-1712102399@www.amatipartners.it
SUMMARY:Aprile
DESCRIPTION:Versamento Sanatoria irregolarità formali (2a rata di 2) \n\n\n\n\nComma 167\, L. 197/2022
URL:https://www.amatipartners.it/scadenze/aprile-5/
END:VEVENT
BEGIN:VEVENT
DTSTART;VALUE=DATE:20240402
DTEND;VALUE=DATE:20240403
DTSTAMP:20260423T201510
CREATED:20240216T093826Z
LAST-MODIFIED:20240216T093826Z
UID:10000063-1712016000-1712102399@www.amatipartners.it
SUMMARY:Aprile
DESCRIPTION:Versam. Ravv. speciale (5a rata trim. di 8)\, Liti fiscali pendenti (4a rata trim. di max 20)\, Rate ist. definitori (5a rata trim. di max 20) \n\n\n\n\nCommi 174\, 194 e 220\, L. 197/2022
URL:https://www.amatipartners.it/scadenze/aprile-6/
END:VEVENT
END:VCALENDAR